BEGIN:VCALENDAR
VERSION:2.0
PRODID:icalendar-ruby
CALSCALE:GREGORIAN
METHOD:PUBLISH
BEGIN:VEVENT
DTSTAMP:20260422T075656Z
UID:102-434774@sunburycity.church
DTSTART:20261008T220000Z
DTEND:20261009T000000Z
CLASS:PUBLIC
CREATED:20260421T201618
DESCRIPTION:Join us for as we share a meal\, fellowship\, and dive into scr
 ipture. 
LAST-MODIFIED:20260421T201618
LOCATION:Sunbury City Church
SUMMARY:Missional Community at Sunbury City 
URL;VALUE=URI:https://www.sunburycity.church/events/missional-community-at-
 sunbury-city/2026-10-08
ATTACH;FILENAME=Missional Community (2).png;FMTTYPE=image/png:https://dq5pw
 pg1q8ru0.cloudfront.net/2024/07/16/22/42/59/771396af-eb76-4ab6-bf4f-1220a2
 b70083/Missional%20Community%20(2).png
END:VEVENT
END:VCALENDAR
